BEGIN:VCALENDAR
VERSION:2.0
PRODID:-//Church Admin Plugin//Website//EN
CALSCALE:GREGORIAN
METHOD:PUBLISH
BEGIN:VEVENT
UID:sunday-school
TRANSP:OPAQUE
X-APPLE-TRAVEL-ADVISORY-BEHAVIOR:AUTOMATIC
DTSTART;VALUE=DATE:20260426T100000
DTEND;VALUE=DATE:20260426T104500
DTSTAMP:20260421T104825Z
CATEGORIES:Sunday School
LOCATION:
DESCRIPTION:Sunday School for all ages
SUMMARY:Sunday School
END:VEVENT
END:VCALENDAR